BEGIN:VCALENDAR
VERSION:2.0
PRODID:-//Wilmington Grammar School for Girls - ECPv6.15.20//NONSGML v1.0//EN
CALSCALE:GREGORIAN
METHOD:PUBLISH
X-WR-CALNAME:Wilmington Grammar School for Girls
X-ORIGINAL-URL:https://wgsg.co.uk
X-WR-CALDESC:Events for Wilmington Grammar School for Girls
REFRESH-INTERVAL;VALUE=DURATION:PT1H
X-Robots-Tag:noindex
X-PUBLISHED-TTL:PT1H
BEGIN:VTIMEZONE
TZID:UTC
BEGIN:STANDARD
TZOFFSETFROM:+0000
TZOFFSETTO:+0000
TZNAME:UTC
DTSTART:20240101T000000
END:STANDARD
END:VTIMEZONE
BEGIN:VEVENT
DTSTART;VALUE=DATE:20260421
DTEND;VALUE=DATE:20260423
DTSTAMP:20260420T183454
CREATED:20250830T164926Z
LAST-MODIFIED:20250830T165011Z
UID:3351-1776729600-1776902399@wgsg.co.uk
SUMMARY:GCSE Art Exams
DESCRIPTION:
URL:https://wgsg.co.uk/event/gcse-art-exams/
CATEGORIES:Exams
END:VEVENT
BEGIN:VEVENT
DTSTART;VALUE=DATE:20260420
DTEND;VALUE=DATE:20260425
DTSTAMP:20260420T183454
CREATED:20250830T164640Z
LAST-MODIFIED:20250830T164640Z
UID:3347-1776643200-1777075199@wgsg.co.uk
SUMMARY:Y12 Progress Exams
DESCRIPTION:
URL:https://wgsg.co.uk/event/y12-progress-exams/
CATEGORIES:Exams
END:VEVENT
BEGIN:VEVENT
DTSTART;VALUE=DATE:20260420
DTEND;VALUE=DATE:20260421
DTSTAMP:20260420T183454
CREATED:20250830T164457Z
LAST-MODIFIED:20250830T164457Z
UID:3345-1776643200-1776729599@wgsg.co.uk
SUMMARY:Start of Term 5
DESCRIPTION:
URL:https://wgsg.co.uk/event/start-of-term-5/
CATEGORIES:Term Dates
END:VEVENT
BEGIN:VEVENT
DTSTART;VALUE=DATE:20260402
DTEND;VALUE=DATE:20260403
DTSTAMP:20260420T183454
CREATED:20250830T164052Z
LAST-MODIFIED:20250830T164052Z
UID:3343-1775088000-1775174399@wgsg.co.uk
SUMMARY:End of Term 4
DESCRIPTION:
URL:https://wgsg.co.uk/event/end-of-term-4/
CATEGORIES:Term Dates
END:VEVENT
BEGIN:VEVENT
DTSTART;VALUE=DATE:20260402
DTEND;VALUE=DATE:20260403
DTSTAMP:20260420T183454
CREATED:20250830T133912Z
LAST-MODIFIED:20250830T133912Z
UID:3339-1775088000-1775174399@wgsg.co.uk
SUMMARY:Culture Day
DESCRIPTION:
URL:https://wgsg.co.uk/event/culture-day-2/
CATEGORIES:School Event
END:VEVENT
BEGIN:VEVENT
DTSTART;VALUE=DATE:20260325
DTEND;VALUE=DATE:20260326
DTSTAMP:20260420T183454
CREATED:20250830T134110Z
LAST-MODIFIED:20250830T134110Z
UID:3341-1774396800-1774483199@wgsg.co.uk
SUMMARY:EI Celebration Evening
DESCRIPTION:
URL:https://wgsg.co.uk/event/ei-celebration-evening/
CATEGORIES:School Event
END:VEVENT
BEGIN:VEVENT
DTSTART;VALUE=DATE:20260309
DTEND;VALUE=DATE:20260314
DTSTAMP:20260420T183454
CREATED:20250830T133432Z
LAST-MODIFIED:20250830T133432Z
UID:3335-1773014400-1773446399@wgsg.co.uk
SUMMARY:Y10 Progress Exams
DESCRIPTION:
URL:https://wgsg.co.uk/event/y10-progress-exams-2/
CATEGORIES:Exams
END:VEVENT
BEGIN:VEVENT
DTSTART;VALUE=DATE:20260305
DTEND;VALUE=DATE:20260306
DTSTAMP:20260420T183454
CREATED:20250830T133638Z
LAST-MODIFIED:20250830T133638Z
UID:3337-1772668800-1772755199@wgsg.co.uk
SUMMARY:Y7 Parents' Evening
DESCRIPTION:
URL:https://wgsg.co.uk/event/y7-parents-evening/
CATEGORIES:Parents' Evenings
END:VEVENT
BEGIN:VEVENT
DTSTART;VALUE=DATE:20260302
DTEND;VALUE=DATE:20260307
DTSTAMP:20260420T183454
CREATED:20250830T133401Z
LAST-MODIFIED:20250830T133401Z
UID:3333-1772409600-1772841599@wgsg.co.uk
SUMMARY:Y10 Progress Exams
DESCRIPTION:
URL:https://wgsg.co.uk/event/y10-progress-exams/
CATEGORIES:Exams
END:VEVENT
BEGIN:VEVENT
DTSTART;VALUE=DATE:20260225
DTEND;VALUE=DATE:20260228
DTSTAMP:20260420T183454
CREATED:20250830T132645Z
LAST-MODIFIED:20250830T132645Z
UID:3331-1771977600-1772236799@wgsg.co.uk
SUMMARY:Y10 MFL Speaking Exams
DESCRIPTION:
URL:https://wgsg.co.uk/event/y10-mfl-speaking-exams/
CATEGORIES:Exams
END:VEVENT
BEGIN:VEVENT
DTSTART;VALUE=DATE:20260224
DTEND;VALUE=DATE:20260225
DTSTAMP:20260420T183454
CREATED:20250830T132508Z
LAST-MODIFIED:20250830T132508Z
UID:3329-1771891200-1771977599@wgsg.co.uk
SUMMARY:Start of Term 4
DESCRIPTION:
URL:https://wgsg.co.uk/event/start-of-term-4/
CATEGORIES:Term Dates
END:VEVENT
BEGIN:VEVENT
DTSTART;VALUE=DATE:20260223
DTEND;VALUE=DATE:20260224
DTSTAMP:20260420T183454
CREATED:20250830T132405Z
LAST-MODIFIED:20250830T132405Z
UID:3327-1771804800-1771891199@wgsg.co.uk
SUMMARY:Staff Inset Day
DESCRIPTION:
URL:https://wgsg.co.uk/event/staff-inset-day-5/
CATEGORIES:Inset Days
END:VEVENT
BEGIN:VEVENT
DTSTART;VALUE=DATE:20260213
DTEND;VALUE=DATE:20260214
DTSTAMP:20260420T183454
CREATED:20250830T132227Z
LAST-MODIFIED:20250830T132227Z
UID:3325-1770940800-1771027199@wgsg.co.uk
SUMMARY:End of Term 3
DESCRIPTION:
URL:https://wgsg.co.uk/event/end-of-term-3/
CATEGORIES:Term Dates
END:VEVENT
BEGIN:VEVENT
DTSTART;VALUE=DATE:20260129
DTEND;VALUE=DATE:20260130
DTSTAMP:20260420T183454
CREATED:20250830T132111Z
LAST-MODIFIED:20250830T132111Z
UID:3323-1769644800-1769731199@wgsg.co.uk
SUMMARY:Y9 Options Evening
DESCRIPTION:
URL:https://wgsg.co.uk/event/y9-options-evening/
CATEGORIES:Parents' Evenings
END:VEVENT
BEGIN:VEVENT
DTSTART;VALUE=DATE:20260129
DTEND;VALUE=DATE:20260130
DTSTAMP:20260420T183454
CREATED:20250830T131523Z
LAST-MODIFIED:20250830T131523Z
UID:3321-1769644800-1769731199@wgsg.co.uk
SUMMARY:Y11 Subject Fair
DESCRIPTION:
URL:https://wgsg.co.uk/event/y11-subject-fair/
CATEGORIES:School Event
END:VEVENT
BEGIN:VEVENT
DTSTART;VALUE=DATE:20260119
DTEND;VALUE=DATE:20260121
DTSTAMP:20260420T183454
CREATED:20250830T130440Z
LAST-MODIFIED:20250830T130440Z
UID:3319-1768780800-1768953599@wgsg.co.uk
SUMMARY:Y13 MFL Speaking Exams
DESCRIPTION:
URL:https://wgsg.co.uk/event/y13-mfl-speaking-exams/
CATEGORIES:Exams
END:VEVENT
BEGIN:VEVENT
DTSTART;VALUE=DATE:20260115
DTEND;VALUE=DATE:20260116
DTSTAMP:20260420T183454
CREATED:20250830T130307Z
LAST-MODIFIED:20250830T130307Z
UID:3317-1768435200-1768521599@wgsg.co.uk
SUMMARY:Y9 Parents' Evening
DESCRIPTION:
URL:https://wgsg.co.uk/event/y9-parents-evening/
CATEGORIES:Parents' Evenings
END:VEVENT
BEGIN:VEVENT
DTSTART;VALUE=DATE:20260112
DTEND;VALUE=DATE:20260117
DTSTAMP:20260420T183454
CREATED:20250830T130124Z
LAST-MODIFIED:20250830T130124Z
UID:3315-1768176000-1768607999@wgsg.co.uk
SUMMARY:Y13 Mocks
DESCRIPTION:
URL:https://wgsg.co.uk/event/y13-mocks-2/
CATEGORIES:Exams
END:VEVENT
BEGIN:VEVENT
DTSTART;VALUE=DATE:20260105
DTEND;VALUE=DATE:20260110
DTSTAMP:20260420T183454
CREATED:20250830T130048Z
LAST-MODIFIED:20250830T130048Z
UID:3313-1767571200-1768003199@wgsg.co.uk
SUMMARY:Y13 Mocks
DESCRIPTION:
URL:https://wgsg.co.uk/event/y13-mocks/
CATEGORIES:Exams
END:VEVENT
BEGIN:VEVENT
DTSTART;VALUE=DATE:20260105
DTEND;VALUE=DATE:20260106
DTSTAMP:20260420T183454
CREATED:20250830T125651Z
LAST-MODIFIED:20250830T125651Z
UID:3311-1767571200-1767657599@wgsg.co.uk
SUMMARY:Start of Term 3
DESCRIPTION:
URL:https://wgsg.co.uk/event/start-of-term-3/
CATEGORIES:Term Dates
END:VEVENT
BEGIN:VEVENT
DTSTART;VALUE=DATE:20251219
DTEND;VALUE=DATE:20251220
DTSTAMP:20260420T183454
CREATED:20250830T125348Z
LAST-MODIFIED:20250831T091043Z
UID:3307-1766102400-1766188799@wgsg.co.uk
SUMMARY:End of Term 2 - Early closing 12pm
DESCRIPTION:
URL:https://wgsg.co.uk/event/end-of-term-2-early-close-12pm/
CATEGORIES:Term Dates
END:VEVENT
BEGIN:VEVENT
DTSTART;VALUE=DATE:20251218
DTEND;VALUE=DATE:20251219
DTSTAMP:20260420T183454
CREATED:20250830T125232Z
LAST-MODIFIED:20250830T125232Z
UID:3305-1766016000-1766102399@wgsg.co.uk
SUMMARY:Christmas Dinner Day
DESCRIPTION:
URL:https://wgsg.co.uk/event/christmas-dinner-day/
CATEGORIES:School Event
END:VEVENT
BEGIN:VEVENT
DTSTART;VALUE=DATE:20251203
DTEND;VALUE=DATE:20251204
DTSTAMP:20260420T183454
CREATED:20250830T125034Z
LAST-MODIFIED:20250830T125034Z
UID:3303-1764720000-1764806399@wgsg.co.uk
SUMMARY:WG6 Open Evening
DESCRIPTION:
URL:https://wgsg.co.uk/event/wg6-open-evening/
CATEGORIES:WG6
END:VEVENT
BEGIN:VEVENT
DTSTART;VALUE=DATE:20251130
DTEND;VALUE=DATE:20251201
DTSTAMP:20260420T183454
CREATED:20250830T124911Z
LAST-MODIFIED:20250830T124911Z
UID:3301-1764460800-1764547199@wgsg.co.uk
SUMMARY:PFA Christmas Fair
DESCRIPTION:
URL:https://wgsg.co.uk/event/pfa-christmas-fair/
CATEGORIES:PFA Events
END:VEVENT
BEGIN:VEVENT
DTSTART;VALUE=DATE:20251127
DTEND;VALUE=DATE:20251128
DTSTAMP:20260420T183454
CREATED:20250830T124749Z
LAST-MODIFIED:20250830T124749Z
UID:3299-1764201600-1764287999@wgsg.co.uk
SUMMARY:Y13 Parents' Evening (WGSB)
DESCRIPTION:
URL:https://wgsg.co.uk/event/y13-parents-evening-wgsb/
CATEGORIES:Parents' Evenings
END:VEVENT
BEGIN:VEVENT
DTSTART;VALUE=DATE:20251117
DTEND;VALUE=DATE:20251122
DTSTAMP:20260420T183454
CREATED:20250830T124638Z
LAST-MODIFIED:20250830T124638Z
UID:3297-1763337600-1763769599@wgsg.co.uk
SUMMARY:Y11 MFL Speaking Exams
DESCRIPTION:
URL:https://wgsg.co.uk/event/y11-mfl-speaking-exams/
CATEGORIES:Exams
END:VEVENT
BEGIN:VEVENT
DTSTART;VALUE=DATE:20251110
DTEND;VALUE=DATE:20251115
DTSTAMP:20260420T183454
CREATED:20250830T124254Z
LAST-MODIFIED:20250830T124254Z
UID:3295-1762732800-1763164799@wgsg.co.uk
SUMMARY:Y11 Mocks
DESCRIPTION:
URL:https://wgsg.co.uk/event/y11-mocks/
CATEGORIES:Exams
END:VEVENT
BEGIN:VEVENT
DTSTART;VALUE=DATE:20251103
DTEND;VALUE=DATE:20251108
DTSTAMP:20260420T183454
CREATED:20250830T123741Z
LAST-MODIFIED:20250830T124446Z
UID:3292-1762128000-1762559999@wgsg.co.uk
SUMMARY:Y11 Mocks
DESCRIPTION:
URL:https://wgsg.co.uk/event/start-of-term-2/
CATEGORIES:Exams
END:VEVENT
BEGIN:VEVENT
DTSTART;VALUE=DATE:20251030
DTEND;VALUE=DATE:20251031
DTSTAMP:20260420T183454
CREATED:20250830T125546Z
LAST-MODIFIED:20250830T125546Z
UID:3309-1761782400-1761868799@wgsg.co.uk
SUMMARY:Start of Term 2
DESCRIPTION:
URL:https://wgsg.co.uk/event/start-of-term-2-2/
CATEGORIES:Term Dates
END:VEVENT
BEGIN:VEVENT
DTSTART;VALUE=DATE:20251029
DTEND;VALUE=DATE:20251030
DTSTAMP:20260420T183454
CREATED:20250830T123540Z
LAST-MODIFIED:20250830T123540Z
UID:3290-1761696000-1761782399@wgsg.co.uk
SUMMARY:Staff Inset Day
DESCRIPTION:
URL:https://wgsg.co.uk/event/staff-inset-day-4/
CATEGORIES:Inset Days
END:VEVENT
END:VCALENDAR