BEGIN:VCALENDAR
VERSION:2.0
PRODID:-//Wilmington Grammar School for Girls - ECPv6.15.20//NONSGML v1.0//EN
CALSCALE:GREGORIAN
METHOD:PUBLISH
X-WR-CALNAME:Wilmington Grammar School for Girls
X-ORIGINAL-URL:https://wgsg.co.uk
X-WR-CALDESC:Events for Wilmington Grammar School for Girls
REFRESH-INTERVAL;VALUE=DURATION:PT1H
X-Robots-Tag:noindex
X-PUBLISHED-TTL:PT1H
BEGIN:VTIMEZONE
TZID:Europe/London
BEGIN:DAYLIGHT
TZOFFSETFROM:+0000
TZOFFSETTO:+0100
TZNAME:BST
DTSTART:20230326T010000
END:DAYLIGHT
BEGIN:STANDARD
TZOFFSETFROM:+0100
TZOFFSETTO:+0000
TZNAME:GMT
DTSTART:20231029T010000
END:STANDARD
BEGIN:DAYLIGHT
TZOFFSETFROM:+0000
TZOFFSETTO:+0100
TZNAME:BST
DTSTART:20240331T010000
END:DAYLIGHT
BEGIN:STANDARD
TZOFFSETFROM:+0100
TZOFFSETTO:+0000
TZNAME:GMT
DTSTART:20241027T010000
END:STANDARD
BEGIN:DAYLIGHT
TZOFFSETFROM:+0000
TZOFFSETTO:+0100
TZNAME:BST
DTSTART:20250330T010000
END:DAYLIGHT
BEGIN:STANDARD
TZOFFSETFROM:+0100
TZOFFSETTO:+0000
TZNAME:GMT
DTSTART:20251026T010000
END:STANDARD
BEGIN:DAYLIGHT
TZOFFSETFROM:+0000
TZOFFSETTO:+0100
TZNAME:BST
DTSTART:20260329T010000
END:DAYLIGHT
BEGIN:STANDARD
TZOFFSETFROM:+0100
TZOFFSETTO:+0000
TZNAME:GMT
DTSTART:20261025T010000
END:STANDARD
END:VTIMEZONE
BEGIN:VTIMEZONE
TZID:UTC
BEGIN:STANDARD
TZOFFSETFROM:+0000
TZOFFSETTO:+0000
TZNAME:UTC
DTSTART:20230101T000000
END:STANDARD
END:VTIMEZONE
BEGIN:VEVENT
DTSTART;VALUE=DATE:20250523
DTEND;VALUE=DATE:20250524
DTSTAMP:20260424T205149
CREATED:20240904T081310Z
LAST-MODIFIED:20240904T081310Z
UID:1771-1747958400-1748044799@wgsg.co.uk
SUMMARY:Last Day of Term 5
DESCRIPTION:
URL:https://wgsg.co.uk/event/last-day-of-term-5/
CATEGORIES:Term Dates
END:VEVENT
BEGIN:VEVENT
DTSTART;VALUE=DATE:20250422
DTEND;VALUE=DATE:20250423
DTSTAMP:20260424T205149
CREATED:20240904T081310Z
LAST-MODIFIED:20240904T081310Z
UID:1770-1745280000-1745366399@wgsg.co.uk
SUMMARY:First Day of Term 5
DESCRIPTION:
URL:https://wgsg.co.uk/event/first-day-of-term-5/
CATEGORIES:Term Dates
END:VEVENT
BEGIN:VEVENT
DTSTART;VALUE=DATE:20250404
DTEND;VALUE=DATE:20250405
DTSTAMP:20260424T205149
CREATED:20240904T081310Z
LAST-MODIFIED:20240904T081310Z
UID:1769-1743724800-1743811199@wgsg.co.uk
SUMMARY:Last Day of Term 4
DESCRIPTION:
URL:https://wgsg.co.uk/event/last-day-of-term-4/
CATEGORIES:Term Dates
END:VEVENT
BEGIN:VEVENT
DTSTART;VALUE=DATE:20250225
DTEND;VALUE=DATE:20250226
DTSTAMP:20260424T205149
CREATED:20240904T081309Z
LAST-MODIFIED:20240904T081309Z
UID:1768-1740441600-1740527999@wgsg.co.uk
SUMMARY:First Day of Term 4
DESCRIPTION:
URL:https://wgsg.co.uk/event/first-day-of-term-4/
CATEGORIES:Term Dates
END:VEVENT
BEGIN:VEVENT
DTSTART;VALUE=DATE:20250214
DTEND;VALUE=DATE:20250215
DTSTAMP:20260424T205149
CREATED:20240904T081309Z
LAST-MODIFIED:20240904T081309Z
UID:1767-1739491200-1739577599@wgsg.co.uk
SUMMARY:Last Day of Term  3
DESCRIPTION:
URL:https://wgsg.co.uk/event/last-day-of-term-3/
CATEGORIES:Term Dates
END:VEVENT
BEGIN:VEVENT
DTSTART;VALUE=DATE:20250106
DTEND;VALUE=DATE:20250107
DTSTAMP:20260424T205149
CREATED:20240904T081308Z
LAST-MODIFIED:20240904T081308Z
UID:1766-1736121600-1736207999@wgsg.co.uk
SUMMARY:First Day of Term 3
DESCRIPTION:
URL:https://wgsg.co.uk/event/first-day-of-term-3/
CATEGORIES:Term Dates
END:VEVENT
BEGIN:VEVENT
DTSTART;VALUE=DATE:20241220
DTEND;VALUE=DATE:20241221
DTSTAMP:20260424T205149
CREATED:20240904T081308Z
LAST-MODIFIED:20240904T081308Z
UID:1765-1734652800-1734739199@wgsg.co.uk
SUMMARY:Last Day of Term 2
DESCRIPTION:
URL:https://wgsg.co.uk/event/last-day-of-term-2/
CATEGORIES:Term Dates
END:VEVENT
BEGIN:VEVENT
DTSTART;VALUE=DATE:20241107
DTEND;VALUE=DATE:20241108
DTSTAMP:20260424T205149
CREATED:20240904T081308Z
LAST-MODIFIED:20240904T081308Z
UID:1764-1730937600-1731023999@wgsg.co.uk
SUMMARY:First Day of Term 2
DESCRIPTION:
URL:https://wgsg.co.uk/event/first-day-of-term-2/
CATEGORIES:Term Dates
END:VEVENT
BEGIN:VEVENT
DTSTART;VALUE=DATE:20241025
DTEND;VALUE=DATE:20241026
DTSTAMP:20260424T205149
CREATED:20240904T081307Z
LAST-MODIFIED:20240904T081307Z
UID:1763-1729814400-1729900799@wgsg.co.uk
SUMMARY:Last Day of Term 1
DESCRIPTION:
URL:https://wgsg.co.uk/event/last-day-of-term-1/
CATEGORIES:Term Dates
END:VEVENT
BEGIN:VEVENT
DTSTART;VALUE=DATE:20240719
DTEND;VALUE=DATE:20240720
DTSTAMP:20260424T205149
CREATED:20240702T081546Z
LAST-MODIFIED:20240702T081546Z
UID:1211-1721347200-1721433599@wgsg.co.uk
SUMMARY:Last Day of Term 6
DESCRIPTION:
URL:https://wgsg.co.uk/event/last-day-of-term-6/
CATEGORIES:Term Dates
END:VEVENT
END:VCALENDAR