BEGIN:VCALENDAR
VERSION:2.0
PRODID:-//Wilmington Grammar School for Girls - ECPv6.15.20//NONSGML v1.0//EN
CALSCALE:GREGORIAN
METHOD:PUBLISH
X-ORIGINAL-URL:https://wgsg.co.uk
X-WR-CALDESC:Events for Wilmington Grammar School for Girls
REFRESH-INTERVAL;VALUE=DURATION:PT1H
X-Robots-Tag:noindex
X-PUBLISHED-TTL:PT1H
BEGIN:VTIMEZONE
TZID:UTC
BEGIN:STANDARD
TZOFFSETFROM:+0000
TZOFFSETTO:+0000
TZNAME:UTC
DTSTART:20230101T000000
END:STANDARD
END:VTIMEZONE
BEGIN:VEVENT
DTSTART;VALUE=DATE:20250704
DTEND;VALUE=DATE:20250705
DTSTAMP:20260424T143313
CREATED:20241008T131920Z
LAST-MODIFIED:20241008T131920Z
UID:2267-1751587200-1751673599@wgsg.co.uk
SUMMARY:Year 6 Transition Day
DESCRIPTION:
URL:https://wgsg.co.uk/event/year-6-transition-day-2/
CATEGORIES:School Events
END:VEVENT
BEGIN:VEVENT
DTSTART;TZID=UTC:20250701T170000
DTEND;TZID=UTC:20250701T193000
DTSTAMP:20260424T143313
CREATED:20241008T131824Z
LAST-MODIFIED:20241008T131837Z
UID:2264-1751389200-1751398200@wgsg.co.uk
SUMMARY:Year 6 Transition Evening
DESCRIPTION:
URL:https://wgsg.co.uk/event/year-6-transition-evenmi/
CATEGORIES:School Events
END:VEVENT
BEGIN:VEVENT
DTSTART;TZID=UTC:20241018T091500
DTEND;TZID=UTC:20241018T143000
DTSTAMP:20260424T143313
CREATED:20241008T123343Z
LAST-MODIFIED:20241008T144355Z
UID:2237-1729242900-1729261800@wgsg.co.uk
SUMMARY:Year 6 Open Day
DESCRIPTION:
URL:https://wgsg.co.uk/event/year-6-open-day/
CATEGORIES:School Events
END:VEVENT
BEGIN:VEVENT
DTSTART;TZID=UTC:20241017T160000
DTEND;TZID=UTC:20241017T200000
DTSTAMP:20260424T143313
CREATED:20241008T123126Z
LAST-MODIFIED:20241008T144428Z
UID:2234-1729180800-1729195200@wgsg.co.uk
SUMMARY:Year 6 Open Evening
DESCRIPTION:
URL:https://wgsg.co.uk/event/year-6-open-evening-2/
CATEGORIES:School Events
END:VEVENT
BEGIN:VEVENT
DTSTART;VALUE=DATE:20240708
DTEND;VALUE=DATE:20240713
DTSTAMP:20260424T143313
CREATED:20240702T081402Z
LAST-MODIFIED:20240702T081402Z
UID:1203-1720396800-1720828799@wgsg.co.uk
SUMMARY:Enrichment Week
DESCRIPTION:
URL:https://wgsg.co.uk/event/enrichment-week/
CATEGORIES:School Events
END:VEVENT
BEGIN:VEVENT
DTSTART;VALUE=DATE:20240705
DTEND;VALUE=DATE:20240706
DTSTAMP:20260424T143313
CREATED:20240702T081340Z
LAST-MODIFIED:20240702T081340Z
UID:1201-1720137600-1720223999@wgsg.co.uk
SUMMARY:Year 6 Transition Day
DESCRIPTION:
URL:https://wgsg.co.uk/event/year-6-transition-day/
CATEGORIES:School Events
END:VEVENT
BEGIN:VEVENT
DTSTART;VALUE=DATE:20240703
DTEND;VALUE=DATE:20240704
DTSTAMP:20260424T143313
CREATED:20240702T081248Z
LAST-MODIFIED:20240702T081248Z
UID:1197-1719964800-1720051199@wgsg.co.uk
SUMMARY:Sports Day
DESCRIPTION:
URL:https://wgsg.co.uk/event/sports-day/
CATEGORIES:School Events
END:VEVENT
BEGIN:VEVENT
DTSTART;VALUE=DATE:20240702
DTEND;VALUE=DATE:20240703
DTSTAMP:20260424T143313
CREATED:20240702T081229Z
LAST-MODIFIED:20240702T081229Z
UID:1195-1719878400-1719964799@wgsg.co.uk
SUMMARY:Summer Showcase
DESCRIPTION:
URL:https://wgsg.co.uk/event/summer-showcase/
CATEGORIES:School Events
END:VEVENT
END:VCALENDAR