BEGIN:VCALENDAR
VERSION:2.0
PRODID:-//Wilmington Grammar School for Girls - ECPv6.15.20//NONSGML v1.0//EN
CALSCALE:GREGORIAN
METHOD:PUBLISH
X-WR-CALNAME:Wilmington Grammar School for Girls
X-ORIGINAL-URL:https://wgsg.co.uk
X-WR-CALDESC:Events for Wilmington Grammar School for Girls
REFRESH-INTERVAL;VALUE=DURATION:PT1H
X-Robots-Tag:noindex
X-PUBLISHED-TTL:PT1H
BEGIN:VTIMEZONE
TZID:UTC
BEGIN:STANDARD
TZOFFSETFROM:+0000
TZOFFSETTO:+0000
TZNAME:UTC
DTSTART:20250101T000000
END:STANDARD
END:VTIMEZONE
BEGIN:VEVENT
DTSTART;VALUE=DATE:20260720
DTEND;VALUE=DATE:20260722
DTSTAMP:20260423T183606
CREATED:20250831T090708Z
LAST-MODIFIED:20250831T090727Z
UID:3385-1784505600-1784678399@wgsg.co.uk
SUMMARY:Y12 Work experience
DESCRIPTION:
URL:https://wgsg.co.uk/event/y12-work-experience/
CATEGORIES:School Event
END:VEVENT
END:VCALENDAR