BEGIN:VCALENDAR
VERSION:2.0
PRODID:-//Wilmington Grammar School for Girls - ECPv6.15.20//NONSGML v1.0//EN
CALSCALE:GREGORIAN
METHOD:PUBLISH
X-ORIGINAL-URL:https://wgsg.co.uk
X-WR-CALDESC:Events for Wilmington Grammar School for Girls
REFRESH-INTERVAL;VALUE=DURATION:PT1H
X-Robots-Tag:noindex
X-PUBLISHED-TTL:PT1H
BEGIN:VTIMEZONE
TZID:UTC
BEGIN:STANDARD
TZOFFSETFROM:+0000
TZOFFSETTO:+0000
TZNAME:UTC
DTSTART:20250101T000000
END:STANDARD
END:VTIMEZONE
BEGIN:VEVENT
DTSTART;VALUE=DATE:20260713
DTEND;VALUE=DATE:20260718
DTSTAMP:20260423T183857
CREATED:20250831T090410Z
LAST-MODIFIED:20250831T090410Z
UID:3381-1783900800-1784332799@wgsg.co.uk
SUMMARY:Enrichment Week
DESCRIPTION:
URL:https://wgsg.co.uk/event/enrichment-week-3/
CATEGORIES:School Event
END:VEVENT
BEGIN:VEVENT
DTSTART;VALUE=DATE:20260713
DTEND;VALUE=DATE:20260718
DTSTAMP:20260423T183857
CREATED:20250831T090621Z
LAST-MODIFIED:20250831T090621Z
UID:3383-1783900800-1784332799@wgsg.co.uk
SUMMARY:Y10&Y12 Work experience
DESCRIPTION:
URL:https://wgsg.co.uk/event/y10y12-work-experience/
CATEGORIES:School Event
END:VEVENT
END:VCALENDAR