BEGIN:VCALENDAR
VERSION:2.0
PRODID:-//Wilmington Grammar School for Girls - ECPv6.15.20//NONSGML v1.0//EN
CALSCALE:GREGORIAN
METHOD:PUBLISH
X-ORIGINAL-URL:https://wgsg.co.uk
X-WR-CALDESC:Events for Wilmington Grammar School for Girls
REFRESH-INTERVAL;VALUE=DURATION:PT1H
X-Robots-Tag:noindex
X-PUBLISHED-TTL:PT1H
BEGIN:VTIMEZONE
TZID:UTC
BEGIN:STANDARD
TZOFFSETFROM:+0000
TZOFFSETTO:+0000
TZNAME:UTC
DTSTART:20250101T000000
END:STANDARD
END:VTIMEZONE
BEGIN:VEVENT
DTSTART;VALUE=DATE:20260703
DTEND;VALUE=DATE:20260704
DTSTAMP:20260423T165840
CREATED:20250831T090229Z
LAST-MODIFIED:20250831T090229Z
UID:3379-1783036800-1783123199@wgsg.co.uk
SUMMARY:Y6 Transition Day
DESCRIPTION:
URL:https://wgsg.co.uk/event/y6-transition-day/
CATEGORIES:School Event
END:VEVENT
END:VCALENDAR