BEGIN:VCALENDAR
VERSION:2.0
PRODID:-//Wilmington Grammar School for Girls - ECPv6.15.20//NONSGML v1.0//EN
CALSCALE:GREGORIAN
METHOD:PUBLISH
X-WR-CALNAME:Wilmington Grammar School for Girls
X-ORIGINAL-URL:https://wgsg.co.uk
X-WR-CALDESC:Events for Wilmington Grammar School for Girls
REFRESH-INTERVAL;VALUE=DURATION:PT1H
X-Robots-Tag:noindex
X-PUBLISHED-TTL:PT1H
BEGIN:VTIMEZONE
TZID:UTC
BEGIN:STANDARD
TZOFFSETFROM:+0000
TZOFFSETTO:+0000
TZNAME:UTC
DTSTART:20240101T000000
END:STANDARD
END:VTIMEZONE
BEGIN:VEVENT
DTSTART;VALUE=DATE:20251016
DTEND;VALUE=DATE:20251017
DTSTAMP:20260424T000016
CREATED:20250830T115739Z
LAST-MODIFIED:20250830T120624Z
UID:3278-1760572800-1760659199@wgsg.co.uk
SUMMARY:Y6 Open Evening
DESCRIPTION:
URL:https://wgsg.co.uk/event/y6-open-evening/
CATEGORIES:School Event
END:VEVENT
END:VCALENDAR