BEGIN:VCALENDAR
VERSION:2.0
PRODID:-//Wilmington Grammar School for Girls - ECPv6.15.20//NONSGML v1.0//EN
CALSCALE:GREGORIAN
METHOD:PUBLISH
X-WR-CALNAME:Wilmington Grammar School for Girls
X-ORIGINAL-URL:https://wgsg.co.uk
X-WR-CALDESC:Events for Wilmington Grammar School for Girls
REFRESH-INTERVAL;VALUE=DURATION:PT1H
X-Robots-Tag:noindex
X-PUBLISHED-TTL:PT1H
BEGIN:VTIMEZONE
TZID:UTC
BEGIN:STANDARD
TZOFFSETFROM:+0000
TZOFFSETTO:+0000
TZNAME:UTC
DTSTART:20250101T000000
END:STANDARD
END:VTIMEZONE
BEGIN:VEVENT
DTSTART;VALUE=DATE:20260420
DTEND;VALUE=DATE:20260421
DTSTAMP:20260420T145042
CREATED:20250830T164457Z
LAST-MODIFIED:20250830T164457Z
UID:3345-1776643200-1776729599@wgsg.co.uk
SUMMARY:Start of Term 5
DESCRIPTION:
URL:https://wgsg.co.uk/event/start-of-term-5/
CATEGORIES:Term Dates
END:VEVENT
BEGIN:VEVENT
DTSTART;VALUE=DATE:20260420
DTEND;VALUE=DATE:20260425
DTSTAMP:20260420T145042
CREATED:20250830T164640Z
LAST-MODIFIED:20250830T164640Z
UID:3347-1776643200-1777075199@wgsg.co.uk
SUMMARY:Y12 Progress Exams
DESCRIPTION:
URL:https://wgsg.co.uk/event/y12-progress-exams/
CATEGORIES:Exams
END:VEVENT
END:VCALENDAR